BEGIN:VCALENDAR
VERSION:2.0
PRODID:-//Lábod - ECPv6.15.20//NONSGML v1.0//EN
CALSCALE:GREGORIAN
METHOD:PUBLISH
X-ORIGINAL-URL:https://labod.hu
X-WR-CALDESC:Események Lábod
REFRESH-INTERVAL;VALUE=DURATION:PT1H
X-Robots-Tag:noindex
X-PUBLISHED-TTL:PT1H
BEGIN:VTIMEZONE
TZID:Europe/Budapest
BEGIN:DAYLIGHT
TZOFFSETFROM:+0100
TZOFFSETTO:+0200
TZNAME:CEST
DTSTART:20250330T010000
END:DAYLIGHT
BEGIN:STANDARD
TZOFFSETFROM:+0200
TZOFFSETTO:+0100
TZNAME:CET
DTSTART:20251026T010000
END:STANDARD
BEGIN:DAYLIGHT
TZOFFSETFROM:+0100
TZOFFSETTO:+0200
TZNAME:CEST
DTSTART:20260329T010000
END:DAYLIGHT
BEGIN:STANDARD
TZOFFSETFROM:+0200
TZOFFSETTO:+0100
TZNAME:CET
DTSTART:20261025T010000
END:STANDARD
BEGIN:DAYLIGHT
TZOFFSETFROM:+0100
TZOFFSETTO:+0200
TZNAME:CEST
DTSTART:20270328T010000
END:DAYLIGHT
BEGIN:STANDARD
TZOFFSETFROM:+0200
TZOFFSETTO:+0100
TZNAME:CET
DTSTART:20271031T010000
END:STANDARD
END:VTIMEZONE
BEGIN:VEVENT
DTSTART;TZID=Europe/Budapest:20260221T140000
DTEND;TZID=Europe/Budapest:20260221T180000
DTSTAMP:20260423T165852
CREATED:20260120T141206Z
LAST-MODIFIED:20260120T141206Z
UID:7229-1771682400-1771696800@labod.hu
SUMMARY:Télűző vigadalom Lábodon!
DESCRIPTION:
URL:https://labod.hu/esemeny/teluzo-vigadalom-labodon/
LOCATION:Művelődési Ház\, Kossuth utca 87.\, Lábod\, 7551
ATTACH;FMTTYPE=image/jpeg:https://labod.hu/wp-content/uploads/2026/01/Labod-a4_v1-scaled.jpg
ORGANIZER;CN="L%C3%A1bod K%C3%B6zs%C3%A9g %C3%96nkorm%C3%A1nyzata":MAILTO:onkormanyzat@labod.hu
END:VEVENT
END:VCALENDAR