BEGIN:VCALENDAR
VERSION:2.0
PRODID:-//Lábod - ECPv6.15.20//NONSGML v1.0//EN
CALSCALE:GREGORIAN
METHOD:PUBLISH
X-WR-CALNAME:Lábod
X-ORIGINAL-URL:https://labod.hu
X-WR-CALDESC:Események Lábod
REFRESH-INTERVAL;VALUE=DURATION:PT1H
X-Robots-Tag:noindex
X-PUBLISHED-TTL:PT1H
BEGIN:VTIMEZONE
TZID:Europe/Budapest
BEGIN:DAYLIGHT
TZOFFSETFROM:+0100
TZOFFSETTO:+0200
TZNAME:CEST
DTSTART:20250330T010000
END:DAYLIGHT
BEGIN:STANDARD
TZOFFSETFROM:+0200
TZOFFSETTO:+0100
TZNAME:CET
DTSTART:20251026T010000
END:STANDARD
BEGIN:DAYLIGHT
TZOFFSETFROM:+0100
TZOFFSETTO:+0200
TZNAME:CEST
DTSTART:20260329T010000
END:DAYLIGHT
BEGIN:STANDARD
TZOFFSETFROM:+0200
TZOFFSETTO:+0100
TZNAME:CET
DTSTART:20261025T010000
END:STANDARD
BEGIN:DAYLIGHT
TZOFFSETFROM:+0100
TZOFFSETTO:+0200
TZNAME:CEST
DTSTART:20270328T010000
END:DAYLIGHT
BEGIN:STANDARD
TZOFFSETFROM:+0200
TZOFFSETTO:+0100
TZNAME:CET
DTSTART:20271031T010000
END:STANDARD
END:VTIMEZONE
BEGIN:VEVENT
DTSTART;TZID=Europe/Budapest:20260420T133000
DTEND;TZID=Europe/Budapest:20260420T133000
DTSTAMP:20260420T102706
CREATED:20260401T095215Z
LAST-MODIFIED:20260401T111738Z
UID:7439-1776691800-1776691800@labod.hu
SUMMARY:Felnőtt egészségügyi szűrés
DESCRIPTION:A részvétel előzetes jelentkezés alapján történik! \nJelentkezni április 9-ig\ntelefonon\n0670/339-5683\, 0670/353-2681 \nvagyMessengeren: Horváthné Futó Tündénél
URL:https://labod.hu/esemeny/felnott-egeszsegugyi-szures/
LOCATION:Közösségi Ház (régi Takarékszövetkezet)\, Kossuth utca 95.\, Lábod\, 7551
CATEGORIES:Egészség program,Felnőttprogram
ATTACH;FMTTYPE=image/jpeg:https://labod.hu/wp-content/uploads/2026/04/eu-szures-jelenlet-pont.jpg
END:VEVENT
END:VCALENDAR